BEGIN:VCALENDAR
VERSION:2.0
PRODID:-//Kindertagesstätte Lüttje-Lü - ECPv6.1.3//NONSGML v1.0//EN
CALSCALE:GREGORIAN
METHOD:PUBLISH
X-ORIGINAL-URL:https://kindergarten-luettje-lue.de
X-WR-CALDESC:Veranstaltungen für Kindertagesstätte Lüttje-Lü
REFRESH-INTERVAL;VALUE=DURATION:PT1H
X-Robots-Tag:noindex
X-PUBLISHED-TTL:PT1H
BEGIN:VTIMEZONE
TZID:Europe/Helsinki
BEGIN:DAYLIGHT
TZOFFSETFROM:+0200
TZOFFSETTO:+0300
TZNAME:EEST
DTSTART:20160327T010000
END:DAYLIGHT
BEGIN:STANDARD
TZOFFSETFROM:+0300
TZOFFSETTO:+0200
TZNAME:EET
DTSTART:20161030T010000
END:STANDARD
END:VTIMEZONE
BEGIN:VEVENT
DTSTART;TZID=Europe/Helsinki:20161115T083000
DTEND;TZID=Europe/Helsinki:20161115T093000
DTSTAMP:20260423T231419
CREATED:20161026T102641Z
LAST-MODIFIED:20161026T102641Z
UID:780-1479198600-1479202200@kindergarten-luettje-lue.de
SUMMARY:Figurentheater Pfiffikus
DESCRIPTION:Gemeinsam mit den 1. und 2. Klassen der GS Völlenerfehn besuchen einige unserer KiTa-Kinder das Theaterstück „Morgen\, Findus\, wird´s was geben!“. \nDie Aufführung findet im Schulfestsaal in Völlenerfehn statt. \nNähere Informationen werden rechtzeitig herausgegeben.
URL:https://kindergarten-luettje-lue.de/event/figurentheater-pfiffikus/
LOCATION:NDS
CATEGORIES:Veranstaltungen
END:VEVENT
END:VCALENDAR