BEGIN:VCALENDAR
VERSION:2.0
PRODID:-//Kindertagesstätte Lüttje-Lü - ECPv6.1.3//NONSGML v1.0//EN
CALSCALE:GREGORIAN
METHOD:PUBLISH
X-ORIGINAL-URL:https://kindergarten-luettje-lue.de
X-WR-CALDESC:Veranstaltungen für Kindertagesstätte Lüttje-Lü
REFRESH-INTERVAL;VALUE=DURATION:PT1H
X-Robots-Tag:noindex
X-PUBLISHED-TTL:PT1H
BEGIN:VTIMEZONE
TZID:Europe/Helsinki
BEGIN:DAYLIGHT
TZOFFSETFROM:+0200
TZOFFSETTO:+0300
TZNAME:EEST
DTSTART:20160327T010000
END:DAYLIGHT
BEGIN:STANDARD
TZOFFSETFROM:+0300
TZOFFSETTO:+0200
TZNAME:EET
DTSTART:20161030T010000
END:STANDARD
END:VTIMEZONE
BEGIN:VEVENT
DTSTART;TZID=Europe/Helsinki:20161201T170000
DTEND;TZID=Europe/Helsinki:20161201T190000
DTSTAMP:20260423T213008
CREATED:20161026T095704Z
LAST-MODIFIED:20161026T095704Z
UID:778-1480611600-1480618800@kindergarten-luettje-lue.de
SUMMARY:Lichterfest
DESCRIPTION:In diesem Jahr organisiert der Förderverein der KiTa „Lüttje Lü“ anstelle des Laternenumzuges ein „Lichterfest“ mit Überraschungen für alle Eltern und Kinder. Dieses findet auf dem Außengelände unserer KiTa statt! \nEltern\, die uns unterstützen möchten\, dürfen sich gerne in die in der Halle aushängende Helferliste eintragen. \nAn diesem Nachmittag bleibt die Einrichtung geschlossen!
URL:https://kindergarten-luettje-lue.de/event/lichterfest/
LOCATION:NDS
CATEGORIES:Veranstaltungen
END:VEVENT
END:VCALENDAR