BEGIN:VCALENDAR
VERSION:2.0
PRODID:-//Kindertagesstätte Lüttje-Lü - ECPv6.1.3//NONSGML v1.0//EN
CALSCALE:GREGORIAN
METHOD:PUBLISH
X-ORIGINAL-URL:https://kindergarten-luettje-lue.de
X-WR-CALDESC:Veranstaltungen für Kindertagesstätte Lüttje-Lü
REFRESH-INTERVAL;VALUE=DURATION:PT1H
X-Robots-Tag:noindex
X-PUBLISHED-TTL:PT1H
BEGIN:VTIMEZONE
TZID:Europe/Helsinki
BEGIN:DAYLIGHT
TZOFFSETFROM:+0200
TZOFFSETTO:+0300
TZNAME:EEST
DTSTART:20160327T010000
END:DAYLIGHT
BEGIN:STANDARD
TZOFFSETFROM:+0300
TZOFFSETTO:+0200
TZNAME:EET
DTSTART:20161030T010000
END:STANDARD
END:VTIMEZONE
BEGIN:VEVENT
DTSTART;TZID=Europe/Helsinki:20161205T143000
DTEND;TZID=Europe/Helsinki:20161205T153000
DTSTAMP:20260423T213008
CREATED:20161026T105116Z
LAST-MODIFIED:20161026T105116Z
UID:789-1480948200-1480951800@kindergarten-luettje-lue.de
SUMMARY:Bücherei Völlenerfehn zu Gast in der KiTa
DESCRIPTION:Unseren Jüngsten in der KiTa zeigt eine Angestellte der Bücherei Völlenerfehn heute eine weihnachtliche Geschichte in Form eines Bilderbuchkinos.
URL:https://kindergarten-luettje-lue.de/event/buecherei-voellenerfehn-zu-gast-in-der-kita-2/
LOCATION:NDS
CATEGORIES:Veranstaltungen
END:VEVENT
END:VCALENDAR