BEGIN:VCALENDAR
VERSION:2.0
PRODID:-//Kindertagesstätte Lüttje-Lü - ECPv6.1.3//NONSGML v1.0//EN
CALSCALE:GREGORIAN
METHOD:PUBLISH
X-WR-CALNAME:Kindertagesstätte Lüttje-Lü
X-ORIGINAL-URL:https://kindergarten-luettje-lue.de
X-WR-CALDESC:Veranstaltungen für Kindertagesstätte Lüttje-Lü
REFRESH-INTERVAL;VALUE=DURATION:PT1H
X-Robots-Tag:noindex
X-PUBLISHED-TTL:PT1H
BEGIN:VTIMEZONE
TZID:UTC
BEGIN:STANDARD
TZOFFSETFROM:+0000
TZOFFSETTO:+0000
TZNAME:UTC
DTSTART:20170101T000000
END:STANDARD
END:VTIMEZONE
BEGIN:VEVENT
DTSTART;VALUE=DATE:20170707
DTEND;VALUE=DATE:20170802
DTSTAMP:20260423T093542
CREATED:20160817T065304Z
LAST-MODIFIED:20170119T134133Z
UID:531-1499385600-1501631999@kindergarten-luettje-lue.de
SUMMARY:Sommerferien
DESCRIPTION:Der Kindergarten bleibt in der Zeit vom 07.07.2017 – 01.08.2017 geschlossen. \nDer letzte Kindergartentag ist Do.\, der 06.07.2017\, ab Mi.\, dem 02.08.2017 ist der Kindergarten wieder geöffnet.
URL:https://kindergarten-luettje-lue.de/event/sommerferien/
LOCATION:NDS
CATEGORIES:Schließungszeiten,Veranstaltungen
END:VEVENT
END:VCALENDAR