BEGIN:VCALENDAR
VERSION:2.0
PRODID:-//Kindertagesstätte Lüttje-Lü - ECPv6.1.3//NONSGML v1.0//EN
CALSCALE:GREGORIAN
METHOD:PUBLISH
X-ORIGINAL-URL:https://kindergarten-luettje-lue.de
X-WR-CALDESC:Veranstaltungen für Kindertagesstätte Lüttje-Lü
REFRESH-INTERVAL;VALUE=DURATION:PT1H
X-Robots-Tag:noindex
X-PUBLISHED-TTL:PT1H
BEGIN:VTIMEZONE
TZID:Europe/Helsinki
BEGIN:DAYLIGHT
TZOFFSETFROM:+0200
TZOFFSETTO:+0300
TZNAME:EEST
DTSTART:20170326T010000
END:DAYLIGHT
BEGIN:STANDARD
TZOFFSETFROM:+0300
TZOFFSETTO:+0200
TZNAME:EET
DTSTART:20171029T010000
END:STANDARD
END:VTIMEZONE
BEGIN:VEVENT
DTSTART;TZID=Europe/Helsinki:20170825T060000
DTEND;TZID=Europe/Helsinki:20170825T200000
DTSTAMP:20260423T080613
CREATED:20170628T102651Z
LAST-MODIFIED:20170628T102717Z
UID:981-1503640800-1503691200@kindergarten-luettje-lue.de
SUMMARY:Ausflug aller Mitarbeiter/innen
DESCRIPTION:Heute bleibt die Kindertagesstätte geschlossen\, da alle Mitarbeiter/innen der Gemeinde Westoverledingen eine Betriebsfahrt machen!
URL:https://kindergarten-luettje-lue.de/event/ausflug-aller-mitarbeiterinnen/
LOCATION:NDS
CATEGORIES:Veranstaltungen
END:VEVENT
BEGIN:VEVENT
DTSTART;TZID=Europe/Helsinki:20170825T080000
DTEND;TZID=Europe/Helsinki:20170825T170000
DTSTAMP:20260423T080613
CREATED:20170802T081356Z
LAST-MODIFIED:20170802T081356Z
UID:986-1503648000-1503680400@kindergarten-luettje-lue.de
SUMMARY:Ausflug aller Mitarbeiter/innen
DESCRIPTION:Heute bleibt die KiTa geschlossen\, da alle Mitarbeiter/innen der Gemeinde Westoverledingen eine Betriebsfahrt machen!
URL:https://kindergarten-luettje-lue.de/event/ausflug-aller-mitarbeiterinnen-2/
LOCATION:NDS
CATEGORIES:Schließungszeiten,Veranstaltungen
END:VEVENT
END:VCALENDAR