BEGIN:VCALENDAR
VERSION:2.0
PRODID:-//Kindertagesstätte Lüttje-Lü - ECPv6.1.3//NONSGML v1.0//EN
CALSCALE:GREGORIAN
METHOD:PUBLISH
X-ORIGINAL-URL:https://kindergarten-luettje-lue.de
X-WR-CALDESC:Veranstaltungen für Kindertagesstätte Lüttje-Lü
REFRESH-INTERVAL;VALUE=DURATION:PT1H
X-Robots-Tag:noindex
X-PUBLISHED-TTL:PT1H
BEGIN:VTIMEZONE
TZID:UTC
BEGIN:STANDARD
TZOFFSETFROM:+0000
TZOFFSETTO:+0000
TZNAME:UTC
DTSTART:20170101T000000
END:STANDARD
END:VTIMEZONE
BEGIN:VEVENT
DTSTART;VALUE=DATE:20171002
DTEND;VALUE=DATE:20171007
DTSTAMP:20260423T045601
CREATED:20160817T053536Z
LAST-MODIFIED:20170119T134052Z
UID:520-1506902400-1507334399@kindergarten-luettje-lue.de
SUMMARY:Herbstferien
DESCRIPTION:Der Kindergarten bleibt in der Zeit vom 02.10.2017 – 06.10.2017 geschlossen. \n 
URL:https://kindergarten-luettje-lue.de/event/herbstferien/
LOCATION:NDS
CATEGORIES:Schließungszeiten,Veranstaltungen
END:VEVENT
END:VCALENDAR