BEGIN:VCALENDAR
VERSION:2.0
PRODID:-//Kindertagesstätte Lüttje-Lü - ECPv6.1.3//NONSGML v1.0//EN
CALSCALE:GREGORIAN
METHOD:PUBLISH
X-ORIGINAL-URL:https://kindergarten-luettje-lue.de
X-WR-CALDESC:Veranstaltungen für Kindertagesstätte Lüttje-Lü
REFRESH-INTERVAL;VALUE=DURATION:PT1H
X-Robots-Tag:noindex
X-PUBLISHED-TTL:PT1H
BEGIN:VTIMEZONE
TZID:Europe/Helsinki
BEGIN:DAYLIGHT
TZOFFSETFROM:+0200
TZOFFSETTO:+0300
TZNAME:EEST
DTSTART:20180325T010000
END:DAYLIGHT
BEGIN:STANDARD
TZOFFSETFROM:+0300
TZOFFSETTO:+0200
TZNAME:EET
DTSTART:20181028T010000
END:STANDARD
END:VTIMEZONE
BEGIN:VEVENT
DTSTART;TZID=Europe/Helsinki:20180526T103000
DTEND;TZID=Europe/Helsinki:20180526T170000
DTSTAMP:20260422T181602
CREATED:20180202T115131Z
LAST-MODIFIED:20180202T115131Z
UID:1016-1527330600-1527354000@kindergarten-luettje-lue.de
SUMMARY:WOL-Cup
DESCRIPTION:Fußballturnier aller Westoverledinger Kindergärten! \nAustragungsort ist in diesem Jahr der „FC Frisia Völlenerkönigsfehn“. \nZum Programm gehören neben den Fußballspielen und der/den Aufführung/en der Cheerleader auch einige weitere Attraktionen für die Nicht-Fußballspieler. Für das leibliche Wohl wird selbstverständlich ebenfalls gut gesorgt!
URL:https://kindergarten-luettje-lue.de/event/wol-cup/
LOCATION:FC Frisia Vkfehn\, Papenburger Str. 273\, Westoverledingen\, NDS\, 26810\, Deutschland
CATEGORIES:Veranstaltungen
END:VEVENT
END:VCALENDAR