BEGIN:VCALENDAR
VERSION:2.0
PRODID:-//Kindertagesstätte Lüttje-Lü - ECPv6.1.3//NONSGML v1.0//EN
CALSCALE:GREGORIAN
METHOD:PUBLISH
X-WR-CALNAME:Kindertagesstätte Lüttje-Lü
X-ORIGINAL-URL:https://kindergarten-luettje-lue.de
X-WR-CALDESC:Veranstaltungen für Kindertagesstätte Lüttje-Lü
REFRESH-INTERVAL;VALUE=DURATION:PT1H
X-Robots-Tag:noindex
X-PUBLISHED-TTL:PT1H
BEGIN:VTIMEZONE
TZID:UTC
BEGIN:STANDARD
TZOFFSETFROM:+0000
TZOFFSETTO:+0000
TZNAME:UTC
DTSTART:20160101T000000
END:STANDARD
TZID:Europe/Berlin
BEGIN:DAYLIGHT
TZOFFSETFROM:+0100
TZOFFSETTO:+0200
TZNAME:CEST
DTSTART:20160327T010000
END:DAYLIGHT
BEGIN:STANDARD
TZOFFSETFROM:+0200
TZOFFSETTO:+0100
TZNAME:CET
DTSTART:20161030T010000
END:STANDARD
END:VTIMEZONE
BEGIN:VEVENT
DTSTART;TZID=UTC:20160502T080000
DTEND;TZID=UTC:20160504T170000
DTSTAMP:20260424T064213
CREATED:20160318T092711Z
LAST-MODIFIED:20160318T092711Z
UID:361-1462176000-1462381200@kindergarten-luettje-lue.de
SUMMARY:1. Hilfe für unsere Schulkinder
DESCRIPTION:
URL:https://kindergarten-luettje-lue.de/event/1-hilfe-fuer-unsere-schulkinder/
LOCATION:NDS
END:VEVENT
BEGIN:VEVENT
DTSTART;VALUE=DATE:20160506
DTEND;VALUE=DATE:20160507
DTSTAMP:20260424T064213
CREATED:20131022T093548Z
LAST-MODIFIED:20160317T093403Z
UID:192-1462492800-1462579199@kindergarten-luettje-lue.de
SUMMARY:Brückentage
DESCRIPTION:
URL:https://kindergarten-luettje-lue.de/event/brueckentage-2/
LOCATION:NDS
END:VEVENT
BEGIN:VEVENT
DTSTART;TZID=Europe/Berlin:20160512T190000
DTEND;TZID=Europe/Berlin:20160513T090000
DTSTAMP:20260424T064213
CREATED:20140123T122640Z
LAST-MODIFIED:20160317T092133Z
UID:284-1463079600-1463130000@kindergarten-luettje-lue.de
SUMMARY:Übernachtung der Schulkinder im Kindergarten
DESCRIPTION:In diesem Jahr findet unser Übernachtungsfest mit den Kindern\, die eingeschult werden\, schon am 12. Mai 2016 statt. Wir treffen uns um 19:00 Uhr bei uns im Hause und die Kinder führen noch einmal das Musical „Das Gänseblümchen Fredericke“ in „abgespeckter“ Form auf. Danach werden die Eltern „rausgeschmissen“ und das Fest kann beginnen! Nach einem großen gemeinsamen Frühstück am nächsten Morgen werden die Kinder dann um 9:00 Uhr abgeholt! Die Vor- und Ganztagsgruppen bleiben an diesem Tag\, den 13.Mai 2016 geschlossen! \n 
URL:https://kindergarten-luettje-lue.de/event/uebernachtung-der-schulkinder-im-kindergarten/
LOCATION:NDS
END:VEVENT
END:VCALENDAR