BEGIN:VCALENDAR
VERSION:2.0
PRODID:-//Kindertagesstätte Lüttje-Lü - ECPv6.1.3//NONSGML v1.0//EN
CALSCALE:GREGORIAN
METHOD:PUBLISH
X-ORIGINAL-URL:https://kindergarten-luettje-lue.de
X-WR-CALDESC:Veranstaltungen für Kindertagesstätte Lüttje-Lü
REFRESH-INTERVAL;VALUE=DURATION:PT1H
X-Robots-Tag:noindex
X-PUBLISHED-TTL:PT1H
BEGIN:VTIMEZONE
TZID:UTC
BEGIN:STANDARD
TZOFFSETFROM:+0000
TZOFFSETTO:+0000
TZNAME:UTC
DTSTART:20160101T000000
END:STANDARD
END:VTIMEZONE
BEGIN:VEVENT
DTSTART;VALUE=DATE:20160604
DTEND;VALUE=DATE:20160605
DTSTAMP:20260424T051854
CREATED:20140123T120526Z
LAST-MODIFIED:20160817T051445Z
UID:277-1464998400-1465084799@kindergarten-luettje-lue.de
SUMMARY:WOL-Kiga-Cup 2016 in Flachsmeer
DESCRIPTION:Wir haben sehr schöne Leibchen geschenkt bekommen:-) Dankeschön auch im Namen aller Fußball-Kinder!
URL:https://kindergarten-luettje-lue.de/event/wol-kiga-cup-2014-in-ihrhove/
LOCATION:NDS
CATEGORIES:Schließungszeiten,Veranstaltungen
END:VEVENT
BEGIN:VEVENT
DTSTART;TZID=UTC:20160616T190000
DTEND;TZID=UTC:20160616T220000
DTSTAMP:20260424T051854
CREATED:20140123T120648Z
LAST-MODIFIED:20160824T125400Z
UID:278-1466103600-1466114400@kindergarten-luettje-lue.de
SUMMARY:Schultütenbasteln im Kindergarten
DESCRIPTION:
URL:https://kindergarten-luettje-lue.de/event/schultuetenbasteln-im-kindergarten/
LOCATION:NDS
CATEGORIES:Schließungszeiten,Veranstaltungen
END:VEVENT
BEGIN:VEVENT
DTSTART;TZID=UTC:20160621T193000
DTEND;TZID=UTC:20160621T213000
DTSTAMP:20260424T051854
CREATED:20140123T121910Z
LAST-MODIFIED:20160824T125319Z
UID:281-1466537400-1466544600@kindergarten-luettje-lue.de
SUMMARY:Info-Elternabend für die Eltern und Erziehungsberechtigten der neuen Kindergartenkinder
DESCRIPTION:Zu diesem Elternabend bekommen sie noch eine Einladung.
URL:https://kindergarten-luettje-lue.de/event/info-elternabend-fuer-die-eltern-und-erziehungsberechtigten-der-neuen-kindergartenkinder/
LOCATION:NDS
CATEGORIES:Schließungszeiten,Veranstaltungen
END:VEVENT
END:VCALENDAR