BEGIN:VCALENDAR
VERSION:2.0
PRODID:-//Kindertagesstätte Lüttje-Lü - ECPv6.1.3//NONSGML v1.0//EN
CALSCALE:GREGORIAN
METHOD:PUBLISH
X-ORIGINAL-URL:https://kindergarten-luettje-lue.de
X-WR-CALDESC:Veranstaltungen für Kindertagesstätte Lüttje-Lü
REFRESH-INTERVAL;VALUE=DURATION:PT1H
X-Robots-Tag:noindex
X-PUBLISHED-TTL:PT1H
BEGIN:VTIMEZONE
TZID:UTC
BEGIN:STANDARD
TZOFFSETFROM:+0000
TZOFFSETTO:+0000
TZNAME:UTC
DTSTART:20160101T000000
END:STANDARD
TZID:Europe/Helsinki
BEGIN:DAYLIGHT
TZOFFSETFROM:+0200
TZOFFSETTO:+0300
TZNAME:EEST
DTSTART:20170326T010000
END:DAYLIGHT
BEGIN:STANDARD
TZOFFSETFROM:+0300
TZOFFSETTO:+0200
TZNAME:EET
DTSTART:20171029T010000
END:STANDARD
END:VTIMEZONE
BEGIN:VEVENT
DTSTART;VALUE=DATE:20161223
DTEND;VALUE=DATE:20170105
DTSTAMP:20260423T173742
CREATED:20160817T055416Z
LAST-MODIFIED:20161123T100114Z
UID:523-1482451200-1483574399@kindergarten-luettje-lue.de
SUMMARY:Weihnachtsferien
DESCRIPTION:Die KiTa bleibt in der Zeit vom 23.12.2016 – 04.01.2017 geschlossen. \nDer letzte KiTa-Tag ist Do.\, der 22.12.2016\, geöffnet ist wieder ab Donnerstag\, dem 05.01.2017.
URL:https://kindergarten-luettje-lue.de/event/weihnachtsferien-2/
LOCATION:NDS
CATEGORIES:Schließungszeiten
END:VEVENT
BEGIN:VEVENT
DTSTART;TZID=Europe/Helsinki:20170130T080000
DTEND;TZID=Europe/Helsinki:20170223T170000
DTSTAMP:20260423T173742
CREATED:20170111T083133Z
LAST-MODIFIED:20170111T083133Z
UID:895-1485763200-1487869200@kindergarten-luettje-lue.de
SUMMARY:Elternsprechtag
DESCRIPTION:Alle Eltern der Schulanfänger 2017 können sich in die aushängende Liste eintragen\, wenn sie etwas über den Entwicklungsstand\, sowie den Fähig- und Fertigkeiten ihres Kindes erfahren möchten. \nDie Sprechzeiten sind von Gruppe zu Gruppe unterschiedlich. \nZeit pro zu besprechendem Kind: 15 min.!
URL:https://kindergarten-luettje-lue.de/event/elternsprechtag/
LOCATION:NDS
CATEGORIES:Veranstaltungen
END:VEVENT
END:VCALENDAR