BEGIN:VCALENDAR
VERSION:2.0
PRODID:-//Kindertagesstätte Lüttje-Lü - ECPv6.1.3//NONSGML v1.0//EN
CALSCALE:GREGORIAN
METHOD:PUBLISH
X-WR-CALNAME:Kindertagesstätte Lüttje-Lü
X-ORIGINAL-URL:https://kindergarten-luettje-lue.de
X-WR-CALDESC:Veranstaltungen für Kindertagesstätte Lüttje-Lü
REFRESH-INTERVAL;VALUE=DURATION:PT1H
X-Robots-Tag:noindex
X-PUBLISHED-TTL:PT1H
BEGIN:VTIMEZONE
TZID:UTC
BEGIN:STANDARD
TZOFFSETFROM:+0000
TZOFFSETTO:+0000
TZNAME:UTC
DTSTART:20170101T000000
END:STANDARD
TZID:Europe/Helsinki
BEGIN:DAYLIGHT
TZOFFSETFROM:+0200
TZOFFSETTO:+0300
TZNAME:EEST
DTSTART:20170326T010000
END:DAYLIGHT
BEGIN:STANDARD
TZOFFSETFROM:+0300
TZOFFSETTO:+0200
TZNAME:EET
DTSTART:20171029T010000
END:STANDARD
END:VTIMEZONE
BEGIN:VEVENT
DTSTART;VALUE=DATE:20170413
DTEND;VALUE=DATE:20170419
DTSTAMP:20260423T122533
CREATED:20160817T061044Z
LAST-MODIFIED:20170119T134341Z
UID:525-1492041600-1492559999@kindergarten-luettje-lue.de
SUMMARY:Osterferien
DESCRIPTION:Der Kindergarten bleibt in der Zeit vom 13.04.2017 – 18.04.2017 geschlossen. \nDer letzte Kindergartentag ist Mi.\, der 12.04.2017\, ab Mi.\, dem 19.04.2017 ist der Kindergarten wieder geöffnet.
URL:https://kindergarten-luettje-lue.de/event/osterferien-2/
LOCATION:NDS
CATEGORIES:Schließungszeiten,Veranstaltungen
END:VEVENT
BEGIN:VEVENT
DTSTART;TZID=Europe/Helsinki:20170427T193000
DTEND;TZID=Europe/Helsinki:20170427T213000
DTSTAMP:20260423T122533
CREATED:20170111T085250Z
LAST-MODIFIED:20170111T102655Z
UID:899-1493321400-1493328600@kindergarten-luettje-lue.de
SUMMARY:Elternabend KiTa/GS
DESCRIPTION:Zusammen mit den Schulleitern Frau van Allen-Remy und Herrn Kruse verdeutlichen wir an diesem Elternabend  allen interessierten Eltern\, deren Kinder im Sommer 2018 eingeschult werden\, was wir in KiTa und Elternhaus tun können\, um diese auf die Schule vorzubereiten.
URL:https://kindergarten-luettje-lue.de/event/elternabend-kitags/
LOCATION:NDS
CATEGORIES:Veranstaltungen
END:VEVENT
END:VCALENDAR