BEGIN:VCALENDAR
VERSION:2.0
PRODID:-//Kindertagesstätte Lüttje-Lü - ECPv6.1.3//NONSGML v1.0//EN
CALSCALE:GREGORIAN
METHOD:PUBLISH
X-ORIGINAL-URL:https://kindergarten-luettje-lue.de
X-WR-CALDESC:Veranstaltungen für Kindertagesstätte Lüttje-Lü
REFRESH-INTERVAL;VALUE=DURATION:PT1H
X-Robots-Tag:noindex
X-PUBLISHED-TTL:PT1H
BEGIN:VTIMEZONE
TZID:Europe/Helsinki
BEGIN:DAYLIGHT
TZOFFSETFROM:+0200
TZOFFSETTO:+0300
TZNAME:EEST
DTSTART:20170326T010000
END:DAYLIGHT
BEGIN:STANDARD
TZOFFSETFROM:+0300
TZOFFSETTO:+0200
TZNAME:EET
DTSTART:20171029T010000
END:STANDARD
TZID:UTC
BEGIN:STANDARD
TZOFFSETFROM:+0000
TZOFFSETTO:+0000
TZNAME:UTC
DTSTART:20170101T000000
END:STANDARD
END:VTIMEZONE
BEGIN:VEVENT
DTSTART;TZID=Europe/Helsinki:20170610T140000
DTEND;TZID=Europe/Helsinki:20170610T180000
DTSTAMP:20260423T094004
CREATED:20160817T063909Z
LAST-MODIFIED:20170111T094412Z
UID:530-1497103200-1497117600@kindergarten-luettje-lue.de
SUMMARY:Sommerfest
DESCRIPTION:Heute findet unser Sommerfest statt! \nNähere Informationen erhalten Sie demnächst mit der Kindergarten-Post.
URL:https://kindergarten-luettje-lue.de/event/sommerfest/
LOCATION:NDS
CATEGORIES:Veranstaltungen
END:VEVENT
BEGIN:VEVENT
DTSTART;TZID=UTC:20170614T075000
DTEND;TZID=UTC:20170614T130000
DTSTAMP:20260423T094005
CREATED:20140123T122241Z
LAST-MODIFIED:20170111T094916Z
UID:283-1497426600-1497445200@kindergarten-luettje-lue.de
SUMMARY:Die Schulkinder fahren zur Waldbühne Ahmsen
DESCRIPTION:Am Mittwoch\, 14. Juni 2017 besuchen wir mit den Schulkindern das Kindermusical „Pippi Langstrumpf“.
URL:https://kindergarten-luettje-lue.de/event/die-schulkinder-fahren-zur-waldbuehne-ahmsen/
LOCATION:NDS
CATEGORIES:Veranstaltungen
END:VEVENT
BEGIN:VEVENT
DTSTART;TZID=Europe/Helsinki:20170615T193000
DTEND;TZID=Europe/Helsinki:20170615T213000
DTSTAMP:20260423T094005
CREATED:20170119T135455Z
LAST-MODIFIED:20170119T153649Z
UID:925-1497555000-1497562200@kindergarten-luettje-lue.de
SUMMARY:Info-Elternabend für unsere „Neuen“
DESCRIPTION:An diesem Elternabend sind die Eltern unserer zukünftigen Kinder eingeladen. \nIn lockerer Atmosphäre lernen Sie den Kindergarten und das Team kennen\, bekommen Ihre eventuellen Fragen beantwortet und erfahren\, in welche Gruppe Ihr Kind aufgenommen wird sowie wann der erste Kindergartentag Ihres Kindes ist.
URL:https://kindergarten-luettje-lue.de/event/info-elternabend-fuer-unsere-neuen/
LOCATION:NDS
CATEGORIES:Veranstaltungen
END:VEVENT
END:VCALENDAR