BEGIN:VCALENDAR
VERSION:2.0
PRODID:-//Kindertagesstätte Lüttje-Lü - ECPv6.1.3//NONSGML v1.0//EN
CALSCALE:GREGORIAN
METHOD:PUBLISH
X-WR-CALNAME:Kindertagesstätte Lüttje-Lü
X-ORIGINAL-URL:https://kindergarten-luettje-lue.de
X-WR-CALDESC:Veranstaltungen für Kindertagesstätte Lüttje-Lü
REFRESH-INTERVAL;VALUE=DURATION:PT1H
X-Robots-Tag:noindex
X-PUBLISHED-TTL:PT1H
BEGIN:VTIMEZONE
TZID:Europe/Helsinki
BEGIN:DAYLIGHT
TZOFFSETFROM:+0200
TZOFFSETTO:+0300
TZNAME:EEST
DTSTART:20170326T010000
END:DAYLIGHT
BEGIN:STANDARD
TZOFFSETFROM:+0300
TZOFFSETTO:+0200
TZNAME:EET
DTSTART:20171029T010000
END:STANDARD
END:VTIMEZONE
BEGIN:VEVENT
DTSTART;VALUE=DATE:20171227
DTEND;VALUE=DATE:20180101
DTSTAMP:20260423T000744
CREATED:20161123T101652Z
LAST-MODIFIED:20161123T101652Z
UID:817-1514332800-1514764799@kindergarten-luettje-lue.de
SUMMARY:Weihnachtsferien
DESCRIPTION:Die KiTa bleibt ab dem 27.12.2017 geschlossen. \nAb wann die KiTa im Januar wieder geöffnet hat wird nachgetragen.
URL:https://kindergarten-luettje-lue.de/event/weihnachtsferien-3/
LOCATION:NDS
CATEGORIES:Schließungszeiten
END:VEVENT
END:VCALENDAR